BEGIN:VCALENDAR
VERSION:2.0
PRODID:-//Teamtraining Mensch &amp; Hund - ECPv6.15.20//NONSGML v1.0//EN
CALSCALE:GREGORIAN
METHOD:PUBLISH
X-WR-CALNAME:Teamtraining Mensch &amp; Hund
X-ORIGINAL-URL:https://www.teamtraining-mensch-und-hund.de
X-WR-CALDESC:Veranstaltungen für Teamtraining Mensch &amp; Hund
REFRESH-INTERVAL;VALUE=DURATION:PT1H
X-Robots-Tag:noindex
X-PUBLISHED-TTL:PT1H
BEGIN:VTIMEZONE
TZID:Europe/Berlin
BEGIN:DAYLIGHT
TZOFFSETFROM:+0100
TZOFFSETTO:+0200
TZNAME:CEST
DTSTART:20250330T010000
END:DAYLIGHT
BEGIN:STANDARD
TZOFFSETFROM:+0200
TZOFFSETTO:+0100
TZNAME:CET
DTSTART:20251026T010000
END:STANDARD
BEGIN:DAYLIGHT
TZOFFSETFROM:+0100
TZOFFSETTO:+0200
TZNAME:CEST
DTSTART:20260329T010000
END:DAYLIGHT
BEGIN:STANDARD
TZOFFSETFROM:+0200
TZOFFSETTO:+0100
TZNAME:CET
DTSTART:20261025T010000
END:STANDARD
BEGIN:DAYLIGHT
TZOFFSETFROM:+0100
TZOFFSETTO:+0200
TZNAME:CEST
DTSTART:20270328T010000
END:DAYLIGHT
BEGIN:STANDARD
TZOFFSETFROM:+0200
TZOFFSETTO:+0100
TZNAME:CET
DTSTART:20271031T010000
END:STANDARD
END:VTIMEZONE
BEGIN:VEVENT
DTSTART;TZID=Europe/Berlin:20260422T190000
DTEND;TZID=Europe/Berlin:20260422T203000
DTSTAMP:20260422T193843
CREATED:20250108T135324Z
LAST-MODIFIED:20260404T124258Z
UID:4280-1776884400-1776889800@www.teamtraining-mensch-und-hund.de
SUMMARY:Kastration des Hundes Ja? oder Nein?
DESCRIPTION:…dann lassen Sie ihn mal kastrieren!\nEine Kastration kann keine Verhaltenstherapie ersetzen\, denn viele Verhaltensauffälligkeiten\, die mit den Sexualhormonen in Verbindung gebracht werden\, stammen aus völlig anderen Funktionskreisen. \nWas ist der Unterschied zwischen einer Sterilisation und einer Kastration? Gibt es medizinische Indikationen für so einen medizinischen Eingriff? Auf diese und viele Fragen mehr\, antwortet dir Greta an diesem Themenabend. \nDieser Themenabend soll dir einen Einblick in ein sehr komplexes und emotional aufgeladenes Thema geben. Unser Ziel ist\, dass du besser für Deinen Hund – egal ob Hündin oder Rüde – entscheiden kannst\, ob eine Kastration sinnvoll ist. \nUnsere Themenabende finden wir als Präsenzveranstaltungen statt und wir freuen uns Dich am 22. April 2026 ab 19 Uhr bei uns in der Valleystrasse 26 zu sehen. Die Investition bring bitte am Abend in bar mit. \nZur Nachbereitung dieses Themenabends und vertiefende Informationen empfehlen wir sehr gerne das tolle Buch von Sophie Strodtbeck „Sexualverhalten Hormone Kastration bei Hunden“ ISBN9783275022755. \n\nAnmeldung\n\n\n  \n\n\n\n Themenabend (Pflichtfeld) – Bitte auswählen –04.02.26 - Ernährung22.04.26 - Kastration - ja oder nein?10.06.26 - Antigiftköder\n \n Vorname\, Name (Pflichtfeld)  \n \n Hundename (Pflichtfeld)  \n \n Alter\, Geschlecht\, RasseMix Deines Hundes (Pflichtfeld)  \n \n Straße\n \n \n PLZ\, Ort\n \n \n Deine E-Mail-Adresse (Pflichtfeld)\n \n \n Telefon\n\n \n Ihre Nachricht..\n \n \nDauer\n\nDie Themenabende starten (außer Stress beim Hund am 19.07.25 und Ernährung am 25.07.25) um 19 Uhr und enden gegen 20:30 Uhr. Ob Dein Hund dabei sein kann oder nicht und ob der jeweilige Themenabend online oder in unserem Seminarraum in der Valleystr. 26\, 81371 München-Sendling  stattfindet\, kannst Du der jeweiligen Themenabendbeschreibung entnehmen. Wenn es ein Themenabend mit Hund ist\, lass ihn im Raum an der Leine und achte auf die Abstände zu den anderen Hunden - nicht jeder Hund schätzt indoor den Kontakt zu anderen Hunden :-).\n \nZahlung\n\nNach Eingang dieser verbindlichen Buchung erhältst Du per EMail unsere Anmeldebestätigung. Bei Präsenzveranstaltungen zahle bitte am Themenabend in bar bei der Kursleiterin. Für Onlineveranstaltungen erhältst Du eine Rechnung von uns.\nDie Investition für die 1\,5stündigen Themendabende beläuft auf 35 €; für die 3stündigen auf 42€.\n \nAGB\n\nAGB's: Mit dem Absenden dieser Buchung akzeptierst Du unsere Allgemeinen Geschäftsbedingungen (öffnen sich in einen neuen Fenster) als Grundlage des Vertrags der durch unsere Auftragsbestätigung wirksam wird. [honeypot honeypot-695 "Feld bitte leer lassen"]\n \nDatenschutz\n\nIch habe die Datenschutzerklärung gelesen und akzeptiere diese.\n \n\n ×
URL:https://www.teamtraining-mensch-und-hund.de/events/kastration-des-hundes-ja-oder-nein-2/
LOCATION:teamtraining Mensch & Hund\, Valleystr. 26\, München\, 81371\, Deutschland
CATEGORIES:Allgemein,Onlineveranstaltungen,Themenabende
ATTACH;FMTTYPE=image/jpeg:https://www.teamtraining-mensch-und-hund.de/wp-content/uploads/2017/01/sem_pubertaet.jpg
ORGANIZER;CN="Greta Topp":MAILTO:gretatopp@die-teamtrainer.de
END:VEVENT
END:VCALENDAR