BEGIN:VCALENDAR
VERSION:2.0
PRODID:-//Teamtraining Mensch &amp; Hund - ECPv6.15.20//NONSGML v1.0//EN
CALSCALE:GREGORIAN
METHOD:PUBLISH
X-WR-CALNAME:Teamtraining Mensch &amp; Hund
X-ORIGINAL-URL:https://www.teamtraining-mensch-und-hund.de
X-WR-CALDESC:Veranstaltungen für Teamtraining Mensch &amp; Hund
REFRESH-INTERVAL;VALUE=DURATION:PT1H
X-Robots-Tag:noindex
X-PUBLISHED-TTL:PT1H
BEGIN:VTIMEZONE
TZID:Europe/Berlin
BEGIN:DAYLIGHT
TZOFFSETFROM:+0100
TZOFFSETTO:+0200
TZNAME:CEST
DTSTART:20210328T010000
END:DAYLIGHT
BEGIN:STANDARD
TZOFFSETFROM:+0200
TZOFFSETTO:+0100
TZNAME:CET
DTSTART:20211031T010000
END:STANDARD
BEGIN:DAYLIGHT
TZOFFSETFROM:+0100
TZOFFSETTO:+0200
TZNAME:CEST
DTSTART:20220327T010000
END:DAYLIGHT
BEGIN:STANDARD
TZOFFSETFROM:+0200
TZOFFSETTO:+0100
TZNAME:CET
DTSTART:20221030T010000
END:STANDARD
BEGIN:DAYLIGHT
TZOFFSETFROM:+0100
TZOFFSETTO:+0200
TZNAME:CEST
DTSTART:20230326T010000
END:DAYLIGHT
BEGIN:STANDARD
TZOFFSETFROM:+0200
TZOFFSETTO:+0100
TZNAME:CET
DTSTART:20231029T010000
END:STANDARD
END:VTIMEZONE
BEGIN:VEVENT
DTSTART;TZID=Europe/Berlin:20220621T170000
DTEND;TZID=Europe/Berlin:20220621T200000
DTSTAMP:20260422T183433
CREATED:20170621T125609Z
LAST-MODIFIED:20220617T183251Z
UID:658-1655830800-1655841600@www.teamtraining-mensch-und-hund.de
SUMMARY:MiniFortbildung Gassiservice Teil I + II
DESCRIPTION:Du möchtest Dir ein berufliches Standbein aufbauen und magst Hunde?\nGassiservice gibt es mittlerweile wie Sand am Meer. Leider entspricht die Quantität nicht immer auch der Qualität\, so dass sich die Vorfälle mit Hundegruppen häufen und es immer wieder zu gefährlichen Situationen für Mensch und Hund kommt. Wir haben diesen Missstand aufgenommen und uns entschlossen eine MiniFortbildung zu diesem Thema anzubieten.  Ziel unserer MiniFortbildung ist es\, Dich zu befähigen einen Gassiservice professionell ausüben zu können. \nDamit das gelingen kann\, bieten wir diese „MiniFortbildung Gassiservice“ an: \nModul I     Dienstag\, 21. Juni 2022\n \nWas bedeutet Gassiservice \nPersönliche Voraussetzungen für den Gassiservice \nWas mache ich mit meinem eigenen Hund \nWelche Versicherungen brauche ich \nLernen der Hundesprache \nNützliches Equipment mit mehreren Hunden \nAbgrenzung und Selbstschutz \nGassirunde mit einer Hundegruppe \n\nModul II    Dienstag\, 28. Juni 2022\n \nUmgang mit Ressourcen in der Hundegruppe \nKontakt zu anderen Hunden außerhalb der Gassigruppe \nTraining der Gassihunde ? \nDer Weg zum Hund und wieder zurück \nGassirunde mit einer Hundegruppe \n\nDie Investition für beide Module zusammen beläuft sich auf 120 €.\nEure Referentinnen Stefanie Eckhardt und Angela Tang arbeiten seit langen Jahren mit Menschen und ihren Hunden. \nStefanie ist die Spezialistin in Sachen Gassiservice und Urlaubsbetreuung und wird Euch sehr praxisnah und unterhaltsam an diesen spannenden Job heranführen. Mit ihr und ihren Hunden erlebt Ihr hautnah was es bedeutet weit mehr als einen und dazu noch fremde Hunde bei sich zu haben und sich mit ihnen sicher durch den Alltag zu bewegen. Angelas Spezialität ist das Lesen der Hunde und das frühe Veto in Situationen die zu kippen drohen. \nDownload Anmeldung
URL:https://www.teamtraining-mensch-und-hund.de/events/minifortbildung-gassiservice/
LOCATION:teamtraining-Ausbildungen\, Valleystr. 26\, München\, Bayern\, 81371\, Deutschland
CATEGORIES:Allgemein,Seminare
ATTACH;FMTTYPE=image/jpeg:https://www.teamtraining-mensch-und-hund.de/wp-content/uploads/2017/06/006-scaled-e1764781447678.jpg
ORGANIZER;CN="Angela Tang teamtraining":MAILTO:angelatang@die-teamtrainer.de
END:VEVENT
END:VCALENDAR