BEGIN:VCALENDAR
VERSION:2.0
PRODID:-//Teamtraining Mensch &amp; Hund - ECPv6.15.20//NONSGML v1.0//EN
CALSCALE:GREGORIAN
METHOD:PUBLISH
X-ORIGINAL-URL:https://www.teamtraining-mensch-und-hund.de
X-WR-CALDESC:Veranstaltungen für Teamtraining Mensch &amp; Hund
REFRESH-INTERVAL;VALUE=DURATION:PT1H
X-Robots-Tag:noindex
X-PUBLISHED-TTL:PT1H
BEGIN:VTIMEZONE
TZID:Europe/Berlin
BEGIN:DAYLIGHT
TZOFFSETFROM:+0100
TZOFFSETTO:+0200
TZNAME:CEST
DTSTART:20250330T010000
END:DAYLIGHT
BEGIN:STANDARD
TZOFFSETFROM:+0200
TZOFFSETTO:+0100
TZNAME:CET
DTSTART:20251026T010000
END:STANDARD
BEGIN:DAYLIGHT
TZOFFSETFROM:+0100
TZOFFSETTO:+0200
TZNAME:CEST
DTSTART:20260329T010000
END:DAYLIGHT
BEGIN:STANDARD
TZOFFSETFROM:+0200
TZOFFSETTO:+0100
TZNAME:CET
DTSTART:20261025T010000
END:STANDARD
BEGIN:DAYLIGHT
TZOFFSETFROM:+0100
TZOFFSETTO:+0200
TZNAME:CEST
DTSTART:20270328T010000
END:DAYLIGHT
BEGIN:STANDARD
TZOFFSETFROM:+0200
TZOFFSETTO:+0100
TZNAME:CET
DTSTART:20271031T010000
END:STANDARD
END:VTIMEZONE
BEGIN:VEVENT
DTSTART;TZID=Europe/Berlin:20260204T180000
DTEND;TZID=Europe/Berlin:20260204T210000
DTSTAMP:20260423T134832
CREATED:20210126T095013Z
LAST-MODIFIED:20260121T131606Z
UID:1776-1770228000-1770238800@www.teamtraining-mensch-und-hund.de
SUMMARY:Ernährung
DESCRIPTION:Gutes Futter – was ist das und wir erkennt du das? \nDer Hundefuttermarkt ist groß und unübersichtlich. Jede Werbung verspricht dir das beste Futter und manchmal ist es gar nicht so leicht\, das richtige auszuwählen. Im Vortrag lernst du daher: \n❓wie du ein bedarfsdeckendes Futter erkennst. \n❓welche wichtigen Bestandteile in deinem Futter vorhanden sein sollten. \n❓welche Aspekte rund um das Fütterungsmanagement wichtig sind \nKeine trockene Theorie: Gemeinsam erarbeiten wir anhand einer praktischen Checkliste alle wichtigen Kriterien\, mit denen du künftig Futtersorten selbstständig prüfen kannst. Gerne kannst Du Deiner Referentin auch im Vorfeld das Etikett Deines Hundefutters zukommen lassen und Ihr werdet gemeinsam einen prüfenden Blick drauf werfen. \nDozentin:\nSylke Kriwaczek\, Hundeernährungsberaterin\, Autorin von „Napf-Ideen“ bei Kosmos und spezialisiert auf selbstgekochte Rationen für erkrankte Hunde. www.glücksbeute.de \nDieser Themenabend findet an einem Mittwoch statt\, dauert 3 Stunden und die Investition liegt bei 42€. Nach Deiner Anmeldung erhältst Du eine Anmeldebestätigung und die Rechnung. Nach Zahlungseingang senden wir Dir den ZoomLink zum Abend. \n\nAnmeldung\n\n\n  \n\n\n\n. Onlinethemenabend (Pflichtfeld) – Bitte auswählen –04.02.26 - Ernährung\n.\n Vorname\, Name (Pflichtfeld)  \n \n Deine E-Mail-Adresse (Pflichtfeld)\n \n \n Telefon\n\n \n Ihre Nachricht..\n \n \nDauer\n\nUnsere Onlinethemenabende haben zwei Formate: 1) 1\,5 Stunden. 19 - 20:30. 35 € 2) 3 Stunden. 18 - 21 Uhr. 42€.\n \nZahlung\n\nNach Eingang dieser verbindlichen Buchung erhältst Du per EMail unsere Anmeldebestätigung und die Rechnung. In der Woche des Onlinethemenabends und dem Zahlungseingang erhältst Du den Zoomlink.\n \nAGB\n\nAGB's: Mit dem Absenden dieser Buchung akzeptierst Du unsere Allgemeinen Geschäftsbedingungen (öffnen sich in einen neuen Fenster) als Grundlage des Vertrags der durch unsere Auftragsbestätigung wirksam wird. [honeypot honeypot-695 "Feld bitte leer lassen"]\n \nDatenschutz\n\nIch habe die Datenschutzerklärung gelesen und akzeptiere diese.\n \n\n ×
URL:https://www.teamtraining-mensch-und-hund.de/events/ernaehrung/
LOCATION:Online per Zoom\, Deutschland
CATEGORIES:Allgemein,Onlineveranstaltungen,Themenabende
ATTACH;FMTTYPE=image/jpeg:https://www.teamtraining-mensch-und-hund.de/wp-content/uploads/2017/12/IMG_0542-e1635867865515.jpg
ORGANIZER;CN="Sylke Kriwaczek":MAILTO:sylke@gluecksbeute.team
END:VEVENT
END:VCALENDAR