BEGIN:VCALENDAR
VERSION:2.0
PRODID:-//Teamtraining Mensch &amp; Hund - ECPv6.15.20//NONSGML v1.0//EN
CALSCALE:GREGORIAN
METHOD:PUBLISH
X-ORIGINAL-URL:https://www.teamtraining-mensch-und-hund.de
X-WR-CALDESC:Veranstaltungen für Teamtraining Mensch &amp; Hund
REFRESH-INTERVAL;VALUE=DURATION:PT1H
X-Robots-Tag:noindex
X-PUBLISHED-TTL:PT1H
BEGIN:VTIMEZONE
TZID:Europe/Berlin
BEGIN:DAYLIGHT
TZOFFSETFROM:+0100
TZOFFSETTO:+0200
TZNAME:CEST
DTSTART:20210328T010000
END:DAYLIGHT
BEGIN:STANDARD
TZOFFSETFROM:+0200
TZOFFSETTO:+0100
TZNAME:CET
DTSTART:20211031T010000
END:STANDARD
BEGIN:DAYLIGHT
TZOFFSETFROM:+0100
TZOFFSETTO:+0200
TZNAME:CEST
DTSTART:20220327T010000
END:DAYLIGHT
BEGIN:STANDARD
TZOFFSETFROM:+0200
TZOFFSETTO:+0100
TZNAME:CET
DTSTART:20221030T010000
END:STANDARD
BEGIN:DAYLIGHT
TZOFFSETFROM:+0100
TZOFFSETTO:+0200
TZNAME:CEST
DTSTART:20230326T010000
END:DAYLIGHT
BEGIN:STANDARD
TZOFFSETFROM:+0200
TZOFFSETTO:+0100
TZNAME:CET
DTSTART:20231029T010000
END:STANDARD
END:VTIMEZONE
BEGIN:VEVENT
DTSTART;TZID=Europe/Berlin:20220309T180000
DTEND;TZID=Europe/Berlin:20220309T203000
DTSTAMP:20260424T204147
CREATED:20170615T073419Z
LAST-MODIFIED:20220127T143829Z
UID:651-1646848800-1646857800@www.teamtraining-mensch-und-hund.de
SUMMARY:Welche Bewegung ist gut für Deinen Hund ?
DESCRIPTION:Dieser Themenabend beschäftigt mit sich mit sinnvoller Bewegung beim Hund und ist der Einstieg in unseren beliebten fungility Kurs\, der ab dem 23. Juni stattfindet. \nUnsere Fachärztin Nina Bayer wird Euch Einblick in die Osteopathie geben. Auch wenn diese Behandlungsform in Fachhände gehört\, bekommst Du an diesem Abend einen Einblick welch tolle Einflussmöglichkeiten und Wirkspektren die Osteopathie hat und bekommst den einen oder anderen „Zaubergriff“ an die Hand. Erlebe mit Deinem Hund diese sehr wohltuende Behandlungsform kennen.\nAußerdem werden wir mit Deinem Hund eine Gangbildanalyse machen und seinen Gesamtbewegungsstatus anschauen. Damit erfährst Du viel über die Möglichkeiten der Bewegung\, die zu Deinem Hund passen. \nDein Hund kann Dich an diesem Abend sehr gerne begleiten. Damit mit ihm auch praktisch „gearbeitet“ werden kann\, beginnt dieser Themenabend ausnahmsweise um 18 Uhr und dauert bis ca 20:30 Uhr und die Investition liegt bei diesem Themenabend bei 35 €. \n\nAnmeldung\n\n\n  \n\n\n\n Themenabend (Pflichtfeld) – Bitte auswählen –04.02.26 - Ernährung22.04.26 - Kastration - ja oder nein?10.06.26 - Antigiftköder\n \n Vorname\, Name (Pflichtfeld)  \n \n Hundename (Pflichtfeld)  \n \n Alter\, Geschlecht\, RasseMix Deines Hundes (Pflichtfeld)  \n \n Straße\n \n \n PLZ\, Ort\n \n \n Deine E-Mail-Adresse (Pflichtfeld)\n \n \n Telefon\n\n \n Ihre Nachricht..\n \n \nDauer\n\nDie Themenabende starten (außer Stress beim Hund am 19.07.25 und Ernährung am 25.07.25) um 19 Uhr und enden gegen 20:30 Uhr. Ob Dein Hund dabei sein kann oder nicht und ob der jeweilige Themenabend online oder in unserem Seminarraum in der Valleystr. 26\, 81371 München-Sendling  stattfindet\, kannst Du der jeweiligen Themenabendbeschreibung entnehmen. Wenn es ein Themenabend mit Hund ist\, lass ihn im Raum an der Leine und achte auf die Abstände zu den anderen Hunden - nicht jeder Hund schätzt indoor den Kontakt zu anderen Hunden :-).\n \nZahlung\n\nNach Eingang dieser verbindlichen Buchung erhältst Du per EMail unsere Anmeldebestätigung. Bei Präsenzveranstaltungen zahle bitte am Themenabend in bar bei der Kursleiterin. Für Onlineveranstaltungen erhältst Du eine Rechnung von uns.\nDie Investition für die 1\,5stündigen Themendabende beläuft auf 35 €; für die 3stündigen auf 42€.\n \nAGB\n\nAGB's: Mit dem Absenden dieser Buchung akzeptierst Du unsere Allgemeinen Geschäftsbedingungen (öffnen sich in einen neuen Fenster) als Grundlage des Vertrags der durch unsere Auftragsbestätigung wirksam wird. [honeypot honeypot-695 "Feld bitte leer lassen"]\n \nDatenschutz\n\nIch habe die Datenschutzerklärung gelesen und akzeptiere diese.\n \n\n ×
URL:https://www.teamtraining-mensch-und-hund.de/events/osteopathie/
LOCATION:teamtraining Mensch & Hund\, Valleystr. 26\, München\, 81371\, Deutschland
CATEGORIES:Allgemein,Themenabende
ATTACH;FMTTYPE=image/jpeg:https://www.teamtraining-mensch-und-hund.de/wp-content/uploads/2017/01/sem_tierkommunikation.jpg
END:VEVENT
END:VCALENDAR